BEGIN:VCALENDAR
VERSION:2.0
PRODID:-//hacksw/handcal//NONSGML v1.0//EN
BEGIN:VEVENT
DTSTAMP:20261025T020000Z
DTSTART:20261025T020000Z
DTEND:20261025T040000Z

SUMMARY:Weezer: The Gathering
DESCRIPTION:
END:VEVENT
END:VCALENDAR