BEGIN:VCALENDAR
VERSION:2.0
PRODID:-//hacksw/handcal//NONSGML v1.0//EN
BEGIN:VEVENT
DTSTAMP:20260426T020000Z
DTSTART:20260426T020000Z
DTEND:20260426T040000Z

SUMMARY:Volante – A Bespoke Dining Journey at The Ritz-Carlton, Los Angeles
DESCRIPTION:An intimate, one-of-a-kind behind space for bespoke culinary experiences, Volante is inspired by the speakeasies of Buenos Aires&#39; affluent Recoleta neighborhood. Eight seats wrap around a crescent shaped counter, facing an exhibition style kitchen where dishes are meticulously prepared and beautifully presented.Join us high above Los Angeles on the 24th floor of The Ritz-Carlton, in Sendero, for an unforgettable evening of elevated dining.
END:VEVENT
END:VCALENDAR