BEGIN:VCALENDAR
VERSION:2.0
PRODID:-//hacksw/handcal//NONSGML v1.0//EN
BEGIN:VEVENT
DTSTAMP:20260524T020000Z
DTSTART:20260524T020000Z
DTEND:20260524T060000Z

SUMMARY:TRUE: An Immersive Cinematic Experience
DESCRIPTION:Show Starts: 7PMWhat is TRUE?TRUE is an immersive cinematic experience. It blends film, live performance, original music, and spatial storytelling into a singular event. Now in its seventh iteration and its largest production to date.What happens at the Block Party?The Block Party begins at 5:00 PM in the area outside as well as throughout the inside of the venue. It's the start of the night. Expect activations, experiences, music, atmosphere, and energy building. All ticket holders are welcome.What should I wear?Dress as you feel. Come as fly as you want. This is a cinematic experience, some guests dress up, some come casual. The only requirement is that you're present.Can I bring my phone or camera?Camera and phone recording are strictly prohibited during the performance and will be enforced. Please be present — this experience is designed to be lived, not captured.Is there parking at The Novo?The Novo is located at 800 W Olympic Blvd, Los Angeles, CA 90015. Multiple parking structures are available at LA Live. Rideshare is strongly recommended to avoid delays.Is TRUE appropriate for kids?TRUE is recommended for ages 16 and up. The experience deals with mature emotional themes and includes immersive audio-visual elements that may be intense for younger audiences.We're HereGeneral SupportTrouble purchasing, need to transfer a ticket, or have a question about the event? We'll get back to you within 24 hours.contact@trueimmersive.org
END:VEVENT
END:VCALENDAR