BEGIN:VCALENDAR
VERSION:2.0
PRODID:-//hacksw/handcal//NONSGML v1.0//EN
BEGIN:VEVENT
DTSTAMP:20260927T030000Z
DTSTART:20260927T030000Z
DTEND:20260927T060000Z

SUMMARY:Tribal Seeds
DESCRIPTION:
END:VEVENT
END:VCALENDAR