BEGIN:VCALENDAR
VERSION:2.0
PRODID:-//hacksw/handcal//NONSGML v1.0//EN
BEGIN:VEVENT
DTSTAMP:20260515T030000Z
DTSTART:20260515T030000Z
DTEND:20260515T060000Z

SUMMARY:The Prodigy
DESCRIPTION:This event has a tiered pricing structure, all General Admission tiers have the same access. Once a price level sells out it may no longer be visible or available for selection.*Please note:  multiple GA price levels may be available at the same time
END:VEVENT
END:VCALENDAR