BEGIN:VCALENDAR
VERSION:2.0
PRODID:-//hacksw/handcal//NONSGML v1.0//EN
BEGIN:VEVENT
DTSTAMP:20260514T030000Z
DTSTART:20260514T030000Z
DTEND:20260514T060000Z

SUMMARY:The Prodigy
DESCRIPTION:
END:VEVENT
END:VCALENDAR