BEGIN:VCALENDAR
VERSION:2.0
PRODID:-//hacksw/handcal//NONSGML v1.0//EN
BEGIN:VEVENT
DTSTAMP:20260522T020000Z
DTSTART:20260522T020000Z
DTEND:20260522T050000Z

SUMMARY:The Bulwark Live: Los Angeles
DESCRIPTION:Tim Miller, Sarah Longwell, and Sam Stein bring their signature political insights and banter to a crowd for one night in Los Angeles, featuring special guest Van Lathan for an evening of politics among allies. We can promise you a fun night of sharp political insights and a community built on good faith.
END:VEVENT
END:VCALENDAR