BEGIN:VCALENDAR
VERSION:2.0
PRODID:-//hacksw/handcal//NONSGML v1.0//EN
BEGIN:VEVENT
DTSTAMP:20261017T040000Z
DTSTART:20261017T040000Z
DTEND:20261017T070000Z

SUMMARY:Sunset Rollercoaster
DESCRIPTION:
END:VEVENT
END:VCALENDAR