BEGIN:VCALENDAR
VERSION:2.0
PRODID:-//hacksw/handcal//NONSGML v1.0//EN
BEGIN:VEVENT
DTSTAMP:20260626T023000Z
DTSTART:20260626T023000Z
DTEND:20260626T053000Z

SUMMARY:Summer Walker 
DESCRIPTION:Ticketmaster app delivery only - must download the Ticketmaster app to enter.
END:VEVENT
END:VCALENDAR