BEGIN:VCALENDAR
VERSION:2.0
PRODID:-//hacksw/handcal//NONSGML v1.0//EN
BEGIN:VEVENT
DTSTAMP:20260809T230000Z
DTSTART:20260809T230000Z
DTEND:20260810T010000Z

SUMMARY:Los Angeles Sparks vs Golden State Valkyries
DESCRIPTION:
END:VEVENT
END:VCALENDAR