BEGIN:VCALENDAR
VERSION:2.0
PRODID:-//hacksw/handcal//NONSGML v1.0//EN
BEGIN:VEVENT
DTSTAMP:20260812T020000Z
DTSTART:20260812T020000Z
DTEND:20260812T040000Z

SUMMARY:Los Angeles Sparks vs Phoenix Mercury
DESCRIPTION:
END:VEVENT
END:VCALENDAR