BEGIN:VCALENDAR
VERSION:2.0
PRODID:-//hacksw/handcal//NONSGML v1.0//EN
BEGIN:VEVENT
DTSTAMP:20260722T190000Z
DTSTART:20260722T190000Z
DTEND:20260722T210000Z

SUMMARY:Los Angeles Sparks vs Phoenix Mercury
DESCRIPTION:
END:VEVENT
END:VCALENDAR