BEGIN:VCALENDAR
VERSION:2.0
PRODID:-//hacksw/handcal//NONSGML v1.0//EN
BEGIN:VEVENT
DTSTAMP:20260622T000000Z
DTSTART:20260622T000000Z
DTEND:20260622T020000Z

SUMMARY:Los Angeles Sparks vs New York Liberty
DESCRIPTION:
END:VEVENT
END:VCALENDAR