BEGIN:VCALENDAR
VERSION:2.0
PRODID:-//hacksw/handcal//NONSGML v1.0//EN
BEGIN:VEVENT
DTSTAMP:20260821T020000Z
DTSTART:20260821T020000Z
DTEND:20260821T040000Z

SUMMARY:Los Angeles Sparks vs Atlanta Dream
DESCRIPTION:
END:VEVENT
END:VCALENDAR