BEGIN:VCALENDAR
VERSION:2.0
PRODID:-//hacksw/handcal//NONSGML v1.0//EN
BEGIN:VEVENT
DTSTAMP:20260510T220000Z
DTSTART:20260510T220000Z
DTEND:20260511T000000Z

SUMMARY:Los Angeles Sparks vs Las Vegas Aces
DESCRIPTION:
END:VEVENT
END:VCALENDAR