BEGIN:VCALENDAR
VERSION:2.0
PRODID:-//hacksw/handcal//NONSGML v1.0//EN
BEGIN:VEVENT
DTSTAMP:20260627T040000Z
DTSTART:20260627T040000Z
DTEND:20260627T070000Z

SUMMARY:R&B ONLY
DESCRIPTION:
END:VEVENT
END:VCALENDAR