BEGIN:VCALENDAR
VERSION:2.0
PRODID:-//hacksw/handcal//NONSGML v1.0//EN
BEGIN:VEVENT
DTSTAMP:20260425T200000Z
DTSTART:20260425T200000Z
DTEND:20260425T220000Z

SUMMARY:Pizza City Fest Los Angeles
DESCRIPTION:Full event information and lineup.
END:VEVENT
END:VCALENDAR