BEGIN:VCALENDAR
VERSION:2.0
PRODID:-//hacksw/handcal//NONSGML v1.0//EN
BEGIN:VEVENT
DTSTAMP:20260715T030000Z
DTSTART:20260715T030000Z
DTEND:20260715T050000Z

SUMMARY:Olivia Dean
DESCRIPTION:
END:VEVENT
END:VCALENDAR