BEGIN:VCALENDAR
VERSION:2.0
PRODID:-//hacksw/handcal//NONSGML v1.0//EN
BEGIN:VEVENT
DTSTAMP:20261003T030000Z
DTSTART:20261003T030000Z
DTEND:20261003T050000Z

SUMMARY:Los Parras
DESCRIPTION:
END:VEVENT
END:VCALENDAR