BEGIN:VCALENDAR
VERSION:2.0
PRODID:-//hacksw/handcal//NONSGML v1.0//EN
BEGIN:VEVENT
DTSTAMP:20260503T040000Z
DTSTART:20260503T040000Z
DTEND:20260503T070000Z

SUMMARY:Le Youth
DESCRIPTION:
END:VEVENT
END:VCALENDAR