BEGIN:VCALENDAR
VERSION:2.0
PRODID:-//hacksw/handcal//NONSGML v1.0//EN
BEGIN:VEVENT
DTSTAMP:20261115T030000Z
DTSTART:20261115T030000Z
DTEND:20261115T060000Z

SUMMARY:Lawrence
DESCRIPTION:@Lawrence Mana
END:VEVENT
END:VCALENDAR