BEGIN:VCALENDAR
VERSION:2.0
PRODID:-//hacksw/handcal//NONSGML v1.0//EN
BEGIN:VEVENT
DTSTAMP:20260430T020000Z
DTSTART:20260430T020000Z
DTEND:20260430T050000Z

SUMMARY:Houston Rockets vs Los Angeles Lakers
DESCRIPTION:
END:VEVENT
END:VCALENDAR