BEGIN:VCALENDAR
VERSION:2.0
PRODID:-//hacksw/handcal//NONSGML v1.0//EN
BEGIN:VEVENT
DTSTAMP:20260925T030000Z
DTSTART:20260925T030000Z
DTEND:20260925T060000Z

SUMMARY:Kruder & Dorfmeister
DESCRIPTION:
END:VEVENT
END:VCALENDAR