BEGIN:VCALENDAR
VERSION:2.0
PRODID:-//hacksw/handcal//NONSGML v1.0//EN
BEGIN:VEVENT
DTSTAMP:20260627T013000Z
DTSTART:20260627T013000Z
DTEND:20260627T033000Z

SUMMARY:Kid Cudi Presents: The Rebel Ragers Tour 2026
DESCRIPTION:
END:VEVENT
END:VCALENDAR