BEGIN:VCALENDAR
VERSION:2.0
PRODID:-//hacksw/handcal//NONSGML v1.0//EN
BEGIN:VEVENT
DTSTAMP:20260816T030000Z
DTSTART:20260816T030000Z
DTEND:20260816T050000Z

SUMMARY:KCON LA 2026 M Countdown
DESCRIPTION:AUG 14 (FRI)NCT 127KickFlip ∙ SANTOS BRAVOS ∙ TREASURE ∙ &TEAMfrom20 & HELLO GLOOM ∙ KEYVITUP ∙ ONE PACT AUG 15 (SAT)ZEROBASEONEILLIT ∙ izna ∙ P1HarmonyTAEYONG (from NCT) ∙ YEONJUNfrom20 & HELLO GLOOM ∙ KEYVITUP ∙ RESCENE AUG 16 (SUN)TOMORROW X TOGETHERALLDAY PROJECT ∙ ALPHA DRIVE ONEJO1∙ MEOVVONE PACT∙ RESCENE ∙ So!YoON! FESTIVAL GROUNDS at the LA Convention Center requires a separate ticket. All M COUNTDOWN packages include FESTIVAL GROUNDS admission, with the exception of the 1-DAY K-POP DISCOVERY ticket. *Lineup subject to change
END:VEVENT
END:VCALENDAR