BEGIN:VCALENDAR
VERSION:2.0
PRODID:-//hacksw/handcal//NONSGML v1.0//EN
BEGIN:VEVENT
DTSTAMP:20261011T030000Z
DTSTART:20261011T030000Z
DTEND:20261011T050000Z

SUMMARY:JUNGLE
DESCRIPTION:All tickets are AXS Mobile ID only and are non-transferable. You will not be able to transfer your tickets to someone else at any point for this show. Plan ahead as your entire party must enter the venue together.  ​Any orders exceeding the ticket limit (4) are subject to cancellation without notice.  In the unlikely event you can&#39;t make it to the show, you&#39;ll be able to resell your tickets to other fans via AXS Resale marketplace for the full ticket price you paid including all fees. Secure pass links used by third party resale sites trying to circumvent the transfer policy will not be allowed into the venue.    
END:VEVENT
END:VCALENDAR