BEGIN:VCALENDAR
VERSION:2.0
PRODID:-//hacksw/handcal//NONSGML v1.0//EN
BEGIN:VEVENT
DTSTAMP:20260427T030000Z
DTSTART:20260427T030000Z
DTEND:20260427T060000Z

SUMMARY:John Milton
DESCRIPTION:John Milton es un hipnotizador de renombre internacional, considerado como el principal experto en hipnosis en el siglo XXI. Viene de un linaje de distinguidos hipnotizadores, incluido su padre, Taurus do Brasil, que es reconocido en todo el mundo por sus habilidades. No te pierdas la oportunidad de ver su cautivador espectáculo en The Novo de Los Angeles,CA. / John Milton is a world-renowned, internationally acclaimed hypnotist often referred to as the "Maximum Exponent of Hypnosis in the XXI Century". Son of the famed hypnotist Taurus do Brasil, he is known for his live shows, such as "DUERMASE," which combine hypnosis with entertainment. Don't miss the opportunity to catch his captivating show at The Novo in Los Angeles, CA.
END:VEVENT
END:VCALENDAR