BEGIN:VCALENDAR
VERSION:2.0
PRODID:-//hacksw/handcal//NONSGML v1.0//EN
BEGIN:VEVENT
DTSTAMP:20260813T030000Z
DTSTART:20260813T030000Z
DTEND:20260813T060000Z

SUMMARY:It's Probably Nothing.... 
DESCRIPTION:
END:VEVENT
END:VCALENDAR