BEGIN:VCALENDAR
VERSION:2.0
PRODID:-//hacksw/handcal//NONSGML v1.0//EN
BEGIN:VEVENT
DTSTAMP:20260425T030000Z
DTSTART:20260425T030000Z
DTEND:20260425T060000Z

SUMMARY:Face to Face
DESCRIPTION:
END:VEVENT
END:VCALENDAR