BEGIN:VCALENDAR
VERSION:2.0
PRODID:-//hacksw/handcal//NONSGML v1.0//EN
BEGIN:VEVENT
DTSTAMP:20260630T023000Z
DTSTART:20260630T023000Z
DTEND:20260630T043000Z

SUMMARY:Don Toliver 
DESCRIPTION:June 28 ParkingJune 29 Parking
END:VEVENT
END:VCALENDAR