BEGIN:VCALENDAR
VERSION:2.0
PRODID:-//hacksw/handcal//NONSGML v1.0//EN
BEGIN:VEVENT
DTSTAMP:20260510T040000Z
DTSTART:20260510T040000Z
DTEND:20260510T070000Z

SUMMARY:DJ Premier x The Alchemist
DESCRIPTION:
END:VEVENT
END:VCALENDAR