BEGIN:VCALENDAR
VERSION:2.0
PRODID:-//hacksw/handcal//NONSGML v1.0//EN
BEGIN:VEVENT
DTSTAMP:20280310T002510Z
DTSTART:20280310T002510Z
DTEND:20280310T032510Z

SUMMARY:Craze & Friends
DESCRIPTION:
END:VEVENT
END:VCALENDAR