BEGIN:VCALENDAR
VERSION:2.0
PRODID:-//hacksw/handcal//NONSGML v1.0//EN
BEGIN:VEVENT
DTSTAMP:20260509T183000Z
DTSTART:20260509T183000Z
DTEND:20260509T203000Z

SUMMARY:Chocolate Master Class
DESCRIPTION:Learn the art of chocolate sculpting and decorating from the hotel’s award-winning pastry Chef and master chocolatier Francois Behuet. Get a sneak-peek at how Chef Francois creates incredible themed amenities and chocolate showpieces for holidays and award show weekends. Attendees receive a logo’d apron to take home, along with their chocolate showpiece. Water and sparkling wine included.
END:VEVENT
END:VCALENDAR