BEGIN:VCALENDAR
VERSION:2.0
PRODID:-//hacksw/handcal//NONSGML v1.0//EN
BEGIN:VEVENT
DTSTAMP:20260711T050000Z
DTSTART:20260711T050000Z
DTEND:20260711T080000Z

SUMMARY:BRESH
DESCRIPTION:
END:VEVENT
END:VCALENDAR