BEGIN:VCALENDAR
VERSION:2.0
PRODID:-//hacksw/handcal//NONSGML v1.0//EN
BEGIN:VEVENT
DTSTAMP:20260812T030000Z
DTSTART:20260812T030000Z
DTEND:20260812T050000Z

SUMMARY:Benson Boone
DESCRIPTION:
END:VEVENT
END:VCALENDAR