BEGIN:VCALENDAR
VERSION:2.0
PRODID:-//hacksw/handcal//NONSGML v1.0//EN
BEGIN:VEVENT
DTSTAMP:20260524T170000Z
DTSTART:20260524T170000Z
DTEND:20260524T190000Z

SUMMARY:2026 K-EXPO USA Exhibition 
DESCRIPTION:A curated weekend journey designed to experience K-style.Hands-on showcases featuring Korean companies across content, beauty, and food.Come for the VibesStay for the K-styleFree Entry
END:VEVENT
END:VCALENDAR